BEGIN:VCALENDAR
VERSION:2.0
PRODID:-//lee svitak dean - ECPv6.15.17//NONSGML v1.0//EN
CALSCALE:GREGORIAN
METHOD:PUBLISH
X-ORIGINAL-URL:https://leedeanbooks.com
X-WR-CALDESC:Events for lee svitak dean
REFRESH-INTERVAL;VALUE=DURATION:PT1H
X-Robots-Tag:noindex
X-PUBLISHED-TTL:PT1H
BEGIN:VTIMEZONE
TZID:America/Chicago
BEGIN:DAYLIGHT
TZOFFSETFROM:-0600
TZOFFSETTO:-0500
TZNAME:CDT
DTSTART:20180311T080000
END:DAYLIGHT
BEGIN:STANDARD
TZOFFSETFROM:-0500
TZOFFSETTO:-0600
TZNAME:CST
DTSTART:20181104T070000
END:STANDARD
BEGIN:DAYLIGHT
TZOFFSETFROM:-0600
TZOFFSETTO:-0500
TZNAME:CDT
DTSTART:20190310T080000
END:DAYLIGHT
BEGIN:STANDARD
TZOFFSETFROM:-0500
TZOFFSETTO:-0600
TZNAME:CST
DTSTART:20191103T070000
END:STANDARD
BEGIN:DAYLIGHT
TZOFFSETFROM:-0600
TZOFFSETTO:-0500
TZNAME:CDT
DTSTART:20200308T080000
END:DAYLIGHT
BEGIN:STANDARD
TZOFFSETFROM:-0500
TZOFFSETTO:-0600
TZNAME:CST
DTSTART:20201101T070000
END:STANDARD
END:VTIMEZONE
BEGIN:VEVENT
DTSTART;TZID=America/Chicago:20191003T110000
DTEND;TZID=America/Chicago:20191003T130000
DTSTAMP:20260423T083417
CREATED:20190524T030854Z
LAST-MODIFIED:20190524T031101Z
UID:351-1570100400-1570107600@leedeanbooks.com
SUMMARY:Taste 50th birthday celebration
DESCRIPTION:A party for the public with birthday cake and beverages in honor of the Taste section and its 50 years\, one of the longest continual food sections in the country.
URL:https://leedeanbooks.com/event/taste-50th-birthday-celebratiaon/
LOCATION:Star Tribune headquarters (first floor atrium)\, 650 Third Avenue South\, Minneapolis\, MN
END:VEVENT
BEGIN:VEVENT
DTSTART;TZID=America/Chicago:20191012T130000
DTEND;TZID=America/Chicago:20191012T134500
DTSTAMP:20260423T083417
CREATED:20190628T173949Z
LAST-MODIFIED:20190628T173949Z
UID:361-1570885200-1570887900@leedeanbooks.com
SUMMARY:Homecoming/Alumni Talk: Decades of dining
DESCRIPTION:As the food section\, Taste\, of the Star Tribune turns 50\, we look at the way we ate at home and in restaurants over those years.
URL:https://leedeanbooks.com/event/homecoming-alumni-talk-decades-of-dining/
LOCATION:Hamline University\, 1536 Hewitt Av.\, St. Paul\, MN\, 55104\, United States
END:VEVENT
BEGIN:VEVENT
DTSTART;TZID=America/Chicago:20191019T130000
DTEND;TZID=America/Chicago:20191019T140000
DTSTAMP:20260423T083417
CREATED:20190628T174919Z
LAST-MODIFIED:20190701T213845Z
UID:367-1571490000-1571493600@leedeanbooks.com
SUMMARY:The history of the Bundt pan in Minnesota
DESCRIPTION:Taste editor Lee Svitak Dean and and colleague Rick Nelson will tell stories of the Bundt pan over the decades — and the sometimes wild recipes that went with it.
URL:https://leedeanbooks.com/event/the-history-of-the-bundt-pan-in-minnesota/
LOCATION:Norway House\, 913 E. Franklin Av.\, Minneapolis\, MN\, 55404\, United States
END:VEVENT
END:VCALENDAR