BEGIN:VCALENDAR
VERSION:2.0
PRODID:-//lee svitak dean - ECPv6.15.17//NONSGML v1.0//EN
CALSCALE:GREGORIAN
METHOD:PUBLISH
X-ORIGINAL-URL:https://leedeanbooks.com
X-WR-CALDESC:Events for lee svitak dean
REFRESH-INTERVAL;VALUE=DURATION:PT1H
X-Robots-Tag:noindex
X-PUBLISHED-TTL:PT1H
BEGIN:VTIMEZONE
TZID:America/Chicago
BEGIN:DAYLIGHT
TZOFFSETFROM:-0600
TZOFFSETTO:-0500
TZNAME:CDT
DTSTART:20180311T080000
END:DAYLIGHT
BEGIN:STANDARD
TZOFFSETFROM:-0500
TZOFFSETTO:-0600
TZNAME:CST
DTSTART:20181104T070000
END:STANDARD
BEGIN:DAYLIGHT
TZOFFSETFROM:-0600
TZOFFSETTO:-0500
TZNAME:CDT
DTSTART:20190310T080000
END:DAYLIGHT
BEGIN:STANDARD
TZOFFSETFROM:-0500
TZOFFSETTO:-0600
TZNAME:CST
DTSTART:20191103T070000
END:STANDARD
BEGIN:DAYLIGHT
TZOFFSETFROM:-0600
TZOFFSETTO:-0500
TZNAME:CDT
DTSTART:20200308T080000
END:DAYLIGHT
BEGIN:STANDARD
TZOFFSETFROM:-0500
TZOFFSETTO:-0600
TZNAME:CST
DTSTART:20201101T070000
END:STANDARD
END:VTIMEZONE
BEGIN:VEVENT
DTSTART;TZID=America/Chicago:20191205T110000
DTEND;TZID=America/Chicago:20191205T130000
DTSTAMP:20260423T054729
CREATED:20190524T031600Z
LAST-MODIFIED:20190524T031600Z
UID:358-1575543600-1575550800@leedeanbooks.com
SUMMARY:Cookie Contest Sampler
DESCRIPTION:Taste all five of the 2019 winners of the Taste Cookie Contest.
URL:https://leedeanbooks.com/event/cookie-contest-sampler/
LOCATION:Star Tribune headquarters (first floor atrium)\, 650 Third Avenue South\, Minneapolis\, MN
END:VEVENT
BEGIN:VEVENT
DTSTART;TZID=America/Chicago:20191214T110000
DTEND;TZID=America/Chicago:20191214T130000
DTSTAMP:20260423T054729
CREATED:20191209T180142Z
LAST-MODIFIED:20191209T180142Z
UID:374-1576321200-1576328400@leedeanbooks.com
SUMMARY:Cookie books and cookie potluck at Savage Library
DESCRIPTION:Authors Lee Svitak Dean and Rick Nelson talk about holiday baking and the stories behind “The Great Minnesota Cookie Book.” For those who’d like to bake and bring cookies to share later\, please do so.
URL:https://leedeanbooks.com/event/cookie-books-and-cookie-potluck-at-savage-library/
LOCATION:MN
END:VEVENT
BEGIN:VEVENT
DTSTART;TZID=America/Chicago:20191215T120000
DTEND;TZID=America/Chicago:20191215T133000
DTSTAMP:20260423T054729
CREATED:20191211T003850Z
LAST-MODIFIED:20191211T004812Z
UID:377-1576411200-1576416600@leedeanbooks.com
SUMMARY:Cookbooks at The Golden Fig
DESCRIPTION:Get in the holiday spirit at The Golden Fig\, where Lee and Rick will be signing “The Great Minnesota Cookie Book.”
URL:https://leedeanbooks.com/event/cookbooks-at-the-golden-fig/
LOCATION:The Golden Fig\, 794 Grand Av.\, St. Paul\, MN\, 55105\, United States
END:VEVENT
END:VCALENDAR